BEGIN:VCALENDAR
VERSION:2.0
PRODID:-//Southminster United Church - ECPv6.15.18//NONSGML v1.0//EN
CALSCALE:GREGORIAN
METHOD:PUBLISH
X-WR-CALNAME:Southminster United Church
X-ORIGINAL-URL:https://southminsterunited.com
X-WR-CALDESC:Events for Southminster United Church
REFRESH-INTERVAL;VALUE=DURATION:PT1H
X-Robots-Tag:noindex
X-PUBLISHED-TTL:PT1H
BEGIN:VTIMEZONE
TZID:America/Toronto
BEGIN:DAYLIGHT
TZOFFSETFROM:-0500
TZOFFSETTO:-0400
TZNAME:EDT
DTSTART:20260308T070000
END:DAYLIGHT
BEGIN:STANDARD
TZOFFSETFROM:-0400
TZOFFSETTO:-0500
TZNAME:EST
DTSTART:20261101T060000
END:STANDARD
BEGIN:DAYLIGHT
TZOFFSETFROM:-0500
TZOFFSETTO:-0400
TZNAME:EDT
DTSTART:20270314T070000
END:DAYLIGHT
BEGIN:STANDARD
TZOFFSETFROM:-0400
TZOFFSETTO:-0500
TZNAME:EST
DTSTART:20271107T060000
END:STANDARD
BEGIN:DAYLIGHT
TZOFFSETFROM:-0500
TZOFFSETTO:-0400
TZNAME:EDT
DTSTART:20280312T070000
END:DAYLIGHT
BEGIN:STANDARD
TZOFFSETFROM:-0400
TZOFFSETTO:-0500
TZNAME:EST
DTSTART:20281105T060000
END:STANDARD
END:VTIMEZONE
BEGIN:VEVENT
DTSTART;TZID=America/Toronto:20270105T163000
DTEND;TZID=America/Toronto:20270105T183000
DTSTAMP:20260420T085319
CREATED:20230326T234933Z
LAST-MODIFIED:20230330T024534Z
UID:10000251-1799166600-1799173800@southminsterunited.com
SUMMARY:Highland Dance
DESCRIPTION:@Stenlake & Back Studio
URL:https://southminsterunited.com/event/highland-dance/2027-01-05/
LOCATION:Southminster United Church\, 6801 Hagar Avenue\, Niagara Falls\, Ontario\, L2G5M5\, Canada
CATEGORIES:Classes
ATTACH;FMTTYPE=image/jpeg:https://southminsterunited.com/wp-content/uploads/2023/03/pexels-gene-taylor-848748.jpg
END:VEVENT
BEGIN:VEVENT
DTSTART;TZID=America/Toronto:20270106T163000
DTEND;TZID=America/Toronto:20270106T183000
DTSTAMP:20260420T085319
CREATED:20230326T234933Z
LAST-MODIFIED:20230330T024534Z
UID:10000782-1799253000-1799260200@southminsterunited.com
SUMMARY:Highland Dance
DESCRIPTION:@Stenlake & Back Studio
URL:https://southminsterunited.com/event/highland-dance/2027-01-06/
LOCATION:Southminster United Church\, 6801 Hagar Avenue\, Niagara Falls\, Ontario\, L2G5M5\, Canada
CATEGORIES:Classes
ATTACH;FMTTYPE=image/jpeg:https://southminsterunited.com/wp-content/uploads/2023/03/pexels-gene-taylor-848748.jpg
END:VEVENT
BEGIN:VEVENT
DTSTART;TZID=America/Toronto:20270107T113000
DTEND;TZID=America/Toronto:20270107T123000
DTSTAMP:20260420T085319
CREATED:20230326T235329Z
LAST-MODIFIED:20230330T024642Z
UID:10000514-1799321400-1799325000@southminsterunited.com
SUMMARY:Yoga
DESCRIPTION:@ Stenlake
URL:https://southminsterunited.com/event/yoga/2027-01-07/
LOCATION:Southminster United Church\, 6801 Hagar Avenue\, Niagara Falls\, Ontario\, L2G5M5\, Canada
CATEGORIES:Classes
ATTACH;FMTTYPE=image/jpeg:https://southminsterunited.com/wp-content/uploads/2023/03/pexels-gustavo-fring-3984340.jpg
END:VEVENT
BEGIN:VEVENT
DTSTART;TZID=America/Toronto:20270112T163000
DTEND;TZID=America/Toronto:20270112T183000
DTSTAMP:20260420T085319
CREATED:20230326T234933Z
LAST-MODIFIED:20230330T024534Z
UID:10000252-1799771400-1799778600@southminsterunited.com
SUMMARY:Highland Dance
DESCRIPTION:@Stenlake & Back Studio
URL:https://southminsterunited.com/event/highland-dance/2027-01-12/
LOCATION:Southminster United Church\, 6801 Hagar Avenue\, Niagara Falls\, Ontario\, L2G5M5\, Canada
CATEGORIES:Classes
ATTACH;FMTTYPE=image/jpeg:https://southminsterunited.com/wp-content/uploads/2023/03/pexels-gene-taylor-848748.jpg
END:VEVENT
BEGIN:VEVENT
DTSTART;TZID=America/Toronto:20270113T163000
DTEND;TZID=America/Toronto:20270113T183000
DTSTAMP:20260420T085319
CREATED:20230326T234933Z
LAST-MODIFIED:20230330T024534Z
UID:10000783-1799857800-1799865000@southminsterunited.com
SUMMARY:Highland Dance
DESCRIPTION:@Stenlake & Back Studio
URL:https://southminsterunited.com/event/highland-dance/2027-01-13/
LOCATION:Southminster United Church\, 6801 Hagar Avenue\, Niagara Falls\, Ontario\, L2G5M5\, Canada
CATEGORIES:Classes
ATTACH;FMTTYPE=image/jpeg:https://southminsterunited.com/wp-content/uploads/2023/03/pexels-gene-taylor-848748.jpg
END:VEVENT
BEGIN:VEVENT
DTSTART;TZID=America/Toronto:20270114T113000
DTEND;TZID=America/Toronto:20270114T123000
DTSTAMP:20260420T085319
CREATED:20230326T235329Z
LAST-MODIFIED:20230330T024642Z
UID:10000515-1799926200-1799929800@southminsterunited.com
SUMMARY:Yoga
DESCRIPTION:@ Stenlake
URL:https://southminsterunited.com/event/yoga/2027-01-14/
LOCATION:Southminster United Church\, 6801 Hagar Avenue\, Niagara Falls\, Ontario\, L2G5M5\, Canada
CATEGORIES:Classes
ATTACH;FMTTYPE=image/jpeg:https://southminsterunited.com/wp-content/uploads/2023/03/pexels-gustavo-fring-3984340.jpg
END:VEVENT
BEGIN:VEVENT
DTSTART;TZID=America/Toronto:20270119T163000
DTEND;TZID=America/Toronto:20270119T183000
DTSTAMP:20260420T085319
CREATED:20230326T234933Z
LAST-MODIFIED:20230330T024534Z
UID:10000253-1800376200-1800383400@southminsterunited.com
SUMMARY:Highland Dance
DESCRIPTION:@Stenlake & Back Studio
URL:https://southminsterunited.com/event/highland-dance/2027-01-19/
LOCATION:Southminster United Church\, 6801 Hagar Avenue\, Niagara Falls\, Ontario\, L2G5M5\, Canada
CATEGORIES:Classes
ATTACH;FMTTYPE=image/jpeg:https://southminsterunited.com/wp-content/uploads/2023/03/pexels-gene-taylor-848748.jpg
END:VEVENT
BEGIN:VEVENT
DTSTART;TZID=America/Toronto:20270120T163000
DTEND;TZID=America/Toronto:20270120T183000
DTSTAMP:20260420T085319
CREATED:20230326T234933Z
LAST-MODIFIED:20230330T024534Z
UID:10000784-1800462600-1800469800@southminsterunited.com
SUMMARY:Highland Dance
DESCRIPTION:@Stenlake & Back Studio
URL:https://southminsterunited.com/event/highland-dance/2027-01-20/
LOCATION:Southminster United Church\, 6801 Hagar Avenue\, Niagara Falls\, Ontario\, L2G5M5\, Canada
CATEGORIES:Classes
ATTACH;FMTTYPE=image/jpeg:https://southminsterunited.com/wp-content/uploads/2023/03/pexels-gene-taylor-848748.jpg
END:VEVENT
BEGIN:VEVENT
DTSTART;TZID=America/Toronto:20270121T113000
DTEND;TZID=America/Toronto:20270121T123000
DTSTAMP:20260420T085319
CREATED:20230326T235329Z
LAST-MODIFIED:20230330T024642Z
UID:10000516-1800531000-1800534600@southminsterunited.com
SUMMARY:Yoga
DESCRIPTION:@ Stenlake
URL:https://southminsterunited.com/event/yoga/2027-01-21/
LOCATION:Southminster United Church\, 6801 Hagar Avenue\, Niagara Falls\, Ontario\, L2G5M5\, Canada
CATEGORIES:Classes
ATTACH;FMTTYPE=image/jpeg:https://southminsterunited.com/wp-content/uploads/2023/03/pexels-gustavo-fring-3984340.jpg
END:VEVENT
BEGIN:VEVENT
DTSTART;TZID=America/Toronto:20270126T163000
DTEND;TZID=America/Toronto:20270126T183000
DTSTAMP:20260420T085319
CREATED:20230326T234933Z
LAST-MODIFIED:20230330T024534Z
UID:10000254-1800981000-1800988200@southminsterunited.com
SUMMARY:Highland Dance
DESCRIPTION:@Stenlake & Back Studio
URL:https://southminsterunited.com/event/highland-dance/2027-01-26/
LOCATION:Southminster United Church\, 6801 Hagar Avenue\, Niagara Falls\, Ontario\, L2G5M5\, Canada
CATEGORIES:Classes
ATTACH;FMTTYPE=image/jpeg:https://southminsterunited.com/wp-content/uploads/2023/03/pexels-gene-taylor-848748.jpg
END:VEVENT
BEGIN:VEVENT
DTSTART;TZID=America/Toronto:20270127T163000
DTEND;TZID=America/Toronto:20270127T183000
DTSTAMP:20260420T085319
CREATED:20230326T234933Z
LAST-MODIFIED:20230330T024534Z
UID:10000785-1801067400-1801074600@southminsterunited.com
SUMMARY:Highland Dance
DESCRIPTION:@Stenlake & Back Studio
URL:https://southminsterunited.com/event/highland-dance/2027-01-27/
LOCATION:Southminster United Church\, 6801 Hagar Avenue\, Niagara Falls\, Ontario\, L2G5M5\, Canada
CATEGORIES:Classes
ATTACH;FMTTYPE=image/jpeg:https://southminsterunited.com/wp-content/uploads/2023/03/pexels-gene-taylor-848748.jpg
END:VEVENT
BEGIN:VEVENT
DTSTART;TZID=America/Toronto:20270128T113000
DTEND;TZID=America/Toronto:20270128T123000
DTSTAMP:20260420T085319
CREATED:20230326T235329Z
LAST-MODIFIED:20230330T024642Z
UID:10000517-1801135800-1801139400@southminsterunited.com
SUMMARY:Yoga
DESCRIPTION:@ Stenlake
URL:https://southminsterunited.com/event/yoga/2027-01-28/
LOCATION:Southminster United Church\, 6801 Hagar Avenue\, Niagara Falls\, Ontario\, L2G5M5\, Canada
CATEGORIES:Classes
ATTACH;FMTTYPE=image/jpeg:https://southminsterunited.com/wp-content/uploads/2023/03/pexels-gustavo-fring-3984340.jpg
END:VEVENT
END:VCALENDAR