BEGIN:VCALENDAR
VERSION:2.0
PRODID:-//Southminster United Church - ECPv6.15.18//NONSGML v1.0//EN
CALSCALE:GREGORIAN
METHOD:PUBLISH
X-WR-CALNAME:Southminster United Church
X-ORIGINAL-URL:https://southminsterunited.com
X-WR-CALDESC:Events for Southminster United Church
REFRESH-INTERVAL;VALUE=DURATION:PT1H
X-Robots-Tag:noindex
X-PUBLISHED-TTL:PT1H
BEGIN:VTIMEZONE
TZID:America/Toronto
BEGIN:DAYLIGHT
TZOFFSETFROM:-0500
TZOFFSETTO:-0400
TZNAME:EDT
DTSTART:20240310T070000
END:DAYLIGHT
BEGIN:STANDARD
TZOFFSETFROM:-0400
TZOFFSETTO:-0500
TZNAME:EST
DTSTART:20241103T060000
END:STANDARD
BEGIN:DAYLIGHT
TZOFFSETFROM:-0500
TZOFFSETTO:-0400
TZNAME:EDT
DTSTART:20250309T070000
END:DAYLIGHT
BEGIN:STANDARD
TZOFFSETFROM:-0400
TZOFFSETTO:-0500
TZNAME:EST
DTSTART:20251102T060000
END:STANDARD
BEGIN:DAYLIGHT
TZOFFSETFROM:-0500
TZOFFSETTO:-0400
TZNAME:EDT
DTSTART:20260308T070000
END:DAYLIGHT
BEGIN:STANDARD
TZOFFSETFROM:-0400
TZOFFSETTO:-0500
TZNAME:EST
DTSTART:20261101T060000
END:STANDARD
END:VTIMEZONE
BEGIN:VEVENT
DTSTART;TZID=America/Toronto:20250805T163000
DTEND;TZID=America/Toronto:20250805T183000
DTSTAMP:20260420T143206
CREATED:20230326T234933Z
LAST-MODIFIED:20230330T024534Z
UID:10000177-1754411400-1754418600@southminsterunited.com
SUMMARY:Highland Dance
DESCRIPTION:@Stenlake & Back Studio
URL:https://southminsterunited.com/event/highland-dance/2025-08-05/
LOCATION:Southminster United Church\, 6801 Hagar Avenue\, Niagara Falls\, Ontario\, L2G5M5\, Canada
CATEGORIES:Classes
ATTACH;FMTTYPE=image/jpeg:https://southminsterunited.com/wp-content/uploads/2023/03/pexels-gene-taylor-848748.jpg
END:VEVENT
BEGIN:VEVENT
DTSTART;TZID=America/Toronto:20250806T163000
DTEND;TZID=America/Toronto:20250806T183000
DTSTAMP:20260420T143206
CREATED:20230326T234933Z
LAST-MODIFIED:20230330T024534Z
UID:10000708-1754497800-1754505000@southminsterunited.com
SUMMARY:Highland Dance
DESCRIPTION:@Stenlake & Back Studio
URL:https://southminsterunited.com/event/highland-dance/2025-08-06/
LOCATION:Southminster United Church\, 6801 Hagar Avenue\, Niagara Falls\, Ontario\, L2G5M5\, Canada
CATEGORIES:Classes
ATTACH;FMTTYPE=image/jpeg:https://southminsterunited.com/wp-content/uploads/2023/03/pexels-gene-taylor-848748.jpg
END:VEVENT
BEGIN:VEVENT
DTSTART;TZID=America/Toronto:20250807T113000
DTEND;TZID=America/Toronto:20250807T123000
DTSTAMP:20260420T143206
CREATED:20230326T235329Z
LAST-MODIFIED:20230330T024642Z
UID:10000440-1754566200-1754569800@southminsterunited.com
SUMMARY:Yoga
DESCRIPTION:@ Stenlake
URL:https://southminsterunited.com/event/yoga/2025-08-07/
LOCATION:Southminster United Church\, 6801 Hagar Avenue\, Niagara Falls\, Ontario\, L2G5M5\, Canada
CATEGORIES:Classes
ATTACH;FMTTYPE=image/jpeg:https://southminsterunited.com/wp-content/uploads/2023/03/pexels-gustavo-fring-3984340.jpg
END:VEVENT
BEGIN:VEVENT
DTSTART;TZID=America/Toronto:20250812T163000
DTEND;TZID=America/Toronto:20250812T183000
DTSTAMP:20260420T143206
CREATED:20230326T234933Z
LAST-MODIFIED:20230330T024534Z
UID:10000178-1755016200-1755023400@southminsterunited.com
SUMMARY:Highland Dance
DESCRIPTION:@Stenlake & Back Studio
URL:https://southminsterunited.com/event/highland-dance/2025-08-12/
LOCATION:Southminster United Church\, 6801 Hagar Avenue\, Niagara Falls\, Ontario\, L2G5M5\, Canada
CATEGORIES:Classes
ATTACH;FMTTYPE=image/jpeg:https://southminsterunited.com/wp-content/uploads/2023/03/pexels-gene-taylor-848748.jpg
END:VEVENT
BEGIN:VEVENT
DTSTART;TZID=America/Toronto:20250813T163000
DTEND;TZID=America/Toronto:20250813T183000
DTSTAMP:20260420T143206
CREATED:20230326T234933Z
LAST-MODIFIED:20230330T024534Z
UID:10000709-1755102600-1755109800@southminsterunited.com
SUMMARY:Highland Dance
DESCRIPTION:@Stenlake & Back Studio
URL:https://southminsterunited.com/event/highland-dance/2025-08-13/
LOCATION:Southminster United Church\, 6801 Hagar Avenue\, Niagara Falls\, Ontario\, L2G5M5\, Canada
CATEGORIES:Classes
ATTACH;FMTTYPE=image/jpeg:https://southminsterunited.com/wp-content/uploads/2023/03/pexels-gene-taylor-848748.jpg
END:VEVENT
BEGIN:VEVENT
DTSTART;TZID=America/Toronto:20250814T113000
DTEND;TZID=America/Toronto:20250814T123000
DTSTAMP:20260420T143206
CREATED:20230326T235329Z
LAST-MODIFIED:20230330T024642Z
UID:10000441-1755171000-1755174600@southminsterunited.com
SUMMARY:Yoga
DESCRIPTION:@ Stenlake
URL:https://southminsterunited.com/event/yoga/2025-08-14/
LOCATION:Southminster United Church\, 6801 Hagar Avenue\, Niagara Falls\, Ontario\, L2G5M5\, Canada
CATEGORIES:Classes
ATTACH;FMTTYPE=image/jpeg:https://southminsterunited.com/wp-content/uploads/2023/03/pexels-gustavo-fring-3984340.jpg
END:VEVENT
BEGIN:VEVENT
DTSTART;TZID=America/Toronto:20250819T163000
DTEND;TZID=America/Toronto:20250819T183000
DTSTAMP:20260420T143206
CREATED:20230326T234933Z
LAST-MODIFIED:20230330T024534Z
UID:10000179-1755621000-1755628200@southminsterunited.com
SUMMARY:Highland Dance
DESCRIPTION:@Stenlake & Back Studio
URL:https://southminsterunited.com/event/highland-dance/2025-08-19/
LOCATION:Southminster United Church\, 6801 Hagar Avenue\, Niagara Falls\, Ontario\, L2G5M5\, Canada
CATEGORIES:Classes
ATTACH;FMTTYPE=image/jpeg:https://southminsterunited.com/wp-content/uploads/2023/03/pexels-gene-taylor-848748.jpg
END:VEVENT
BEGIN:VEVENT
DTSTART;TZID=America/Toronto:20250820T163000
DTEND;TZID=America/Toronto:20250820T183000
DTSTAMP:20260420T143206
CREATED:20230326T234933Z
LAST-MODIFIED:20230330T024534Z
UID:10000710-1755707400-1755714600@southminsterunited.com
SUMMARY:Highland Dance
DESCRIPTION:@Stenlake & Back Studio
URL:https://southminsterunited.com/event/highland-dance/2025-08-20/
LOCATION:Southminster United Church\, 6801 Hagar Avenue\, Niagara Falls\, Ontario\, L2G5M5\, Canada
CATEGORIES:Classes
ATTACH;FMTTYPE=image/jpeg:https://southminsterunited.com/wp-content/uploads/2023/03/pexels-gene-taylor-848748.jpg
END:VEVENT
BEGIN:VEVENT
DTSTART;TZID=America/Toronto:20250821T113000
DTEND;TZID=America/Toronto:20250821T123000
DTSTAMP:20260420T143206
CREATED:20230326T235329Z
LAST-MODIFIED:20230330T024642Z
UID:10000442-1755775800-1755779400@southminsterunited.com
SUMMARY:Yoga
DESCRIPTION:@ Stenlake
URL:https://southminsterunited.com/event/yoga/2025-08-21/
LOCATION:Southminster United Church\, 6801 Hagar Avenue\, Niagara Falls\, Ontario\, L2G5M5\, Canada
CATEGORIES:Classes
ATTACH;FMTTYPE=image/jpeg:https://southminsterunited.com/wp-content/uploads/2023/03/pexels-gustavo-fring-3984340.jpg
END:VEVENT
BEGIN:VEVENT
DTSTART;TZID=America/Toronto:20250826T163000
DTEND;TZID=America/Toronto:20250826T183000
DTSTAMP:20260420T143206
CREATED:20230326T234933Z
LAST-MODIFIED:20230330T024534Z
UID:10000180-1756225800-1756233000@southminsterunited.com
SUMMARY:Highland Dance
DESCRIPTION:@Stenlake & Back Studio
URL:https://southminsterunited.com/event/highland-dance/2025-08-26/
LOCATION:Southminster United Church\, 6801 Hagar Avenue\, Niagara Falls\, Ontario\, L2G5M5\, Canada
CATEGORIES:Classes
ATTACH;FMTTYPE=image/jpeg:https://southminsterunited.com/wp-content/uploads/2023/03/pexels-gene-taylor-848748.jpg
END:VEVENT
BEGIN:VEVENT
DTSTART;TZID=America/Toronto:20250827T163000
DTEND;TZID=America/Toronto:20250827T183000
DTSTAMP:20260420T143206
CREATED:20230326T234933Z
LAST-MODIFIED:20230330T024534Z
UID:10000711-1756312200-1756319400@southminsterunited.com
SUMMARY:Highland Dance
DESCRIPTION:@Stenlake & Back Studio
URL:https://southminsterunited.com/event/highland-dance/2025-08-27/
LOCATION:Southminster United Church\, 6801 Hagar Avenue\, Niagara Falls\, Ontario\, L2G5M5\, Canada
CATEGORIES:Classes
ATTACH;FMTTYPE=image/jpeg:https://southminsterunited.com/wp-content/uploads/2023/03/pexels-gene-taylor-848748.jpg
END:VEVENT
BEGIN:VEVENT
DTSTART;TZID=America/Toronto:20250828T113000
DTEND;TZID=America/Toronto:20250828T123000
DTSTAMP:20260420T143206
CREATED:20230326T235329Z
LAST-MODIFIED:20230330T024642Z
UID:10000443-1756380600-1756384200@southminsterunited.com
SUMMARY:Yoga
DESCRIPTION:@ Stenlake
URL:https://southminsterunited.com/event/yoga/2025-08-28/
LOCATION:Southminster United Church\, 6801 Hagar Avenue\, Niagara Falls\, Ontario\, L2G5M5\, Canada
CATEGORIES:Classes
ATTACH;FMTTYPE=image/jpeg:https://southminsterunited.com/wp-content/uploads/2023/03/pexels-gustavo-fring-3984340.jpg
END:VEVENT
END:VCALENDAR