BEGIN:VCALENDAR
VERSION:2.0
PRODID:-//Southminster United Church - ECPv6.15.18//NONSGML v1.0//EN
CALSCALE:GREGORIAN
METHOD:PUBLISH
X-ORIGINAL-URL:https://southminsterunited.com
X-WR-CALDESC:Events for Southminster United Church
REFRESH-INTERVAL;VALUE=DURATION:PT1H
X-Robots-Tag:noindex
X-PUBLISHED-TTL:PT1H
BEGIN:VTIMEZONE
TZID:America/Toronto
BEGIN:DAYLIGHT
TZOFFSETFROM:-0500
TZOFFSETTO:-0400
TZNAME:EDT
DTSTART:20220313T070000
END:DAYLIGHT
BEGIN:STANDARD
TZOFFSETFROM:-0400
TZOFFSETTO:-0500
TZNAME:EST
DTSTART:20221106T060000
END:STANDARD
BEGIN:DAYLIGHT
TZOFFSETFROM:-0500
TZOFFSETTO:-0400
TZNAME:EDT
DTSTART:20230312T070000
END:DAYLIGHT
BEGIN:STANDARD
TZOFFSETFROM:-0400
TZOFFSETTO:-0500
TZNAME:EST
DTSTART:20231105T060000
END:STANDARD
BEGIN:DAYLIGHT
TZOFFSETFROM:-0500
TZOFFSETTO:-0400
TZNAME:EDT
DTSTART:20240310T070000
END:DAYLIGHT
BEGIN:STANDARD
TZOFFSETFROM:-0400
TZOFFSETTO:-0500
TZNAME:EST
DTSTART:20241103T060000
END:STANDARD
BEGIN:DAYLIGHT
TZOFFSETFROM:-0500
TZOFFSETTO:-0400
TZNAME:EDT
DTSTART:20250309T070000
END:DAYLIGHT
BEGIN:STANDARD
TZOFFSETFROM:-0400
TZOFFSETTO:-0500
TZNAME:EST
DTSTART:20251102T060000
END:STANDARD
BEGIN:DAYLIGHT
TZOFFSETFROM:-0500
TZOFFSETTO:-0400
TZNAME:EDT
DTSTART:20260308T070000
END:DAYLIGHT
BEGIN:STANDARD
TZOFFSETFROM:-0400
TZOFFSETTO:-0500
TZNAME:EST
DTSTART:20261101T060000
END:STANDARD
END:VTIMEZONE
BEGIN:VEVENT
DTSTART;TZID=America/Toronto:20251115T100000
DTEND;TZID=America/Toronto:20251115T123000
DTSTAMP:20260421T053954
CREATED:20230329T201003Z
LAST-MODIFIED:20251120T234420Z
UID:10000581-1763200800-1763209800@southminsterunited.com
SUMMARY:Christmas Thrift Bazaar 2025
DESCRIPTION:  \n  \n\nDownload the Christmas Thrift Bazaar poster BazaarPoster2025\nSouthminster’s Christmas Thrift Bazaar is on November 15\, 2025.  Christmas decor\, decorations\, lights and all things Christmas will be featured together with a Bake Table\, Crafts\, Raffle Baskets and the usual Thrift Shop offerings of gently used clothing and housewares.  A very special feature will be homemade jams from Green Lawn Farms.  A light lunch will be available at reasonable cost. \n 
URL:https://southminsterunited.com/event/christmas-thrift-bazaar/
LOCATION:Southminster United Church\, 6801 Hagar Avenue\, Niagara Falls\, Ontario\, L2G5M5\, Canada
CATEGORIES:Fundraiser
ATTACH;FMTTYPE=image/jpeg:https://southminsterunited.com/wp-content/uploads/2023/03/20241018_150034-scaled-e1729299071104.jpg
END:VEVENT
BEGIN:VEVENT
DTSTART;TZID=America/Toronto:20230429T100000
DTEND;TZID=America/Toronto:20230429T130000
DTSTAMP:20260421T053954
CREATED:20230329T024753Z
LAST-MODIFIED:20260324T161035Z
UID:10000578-1682762400-1682773200@southminsterunited.com
SUMMARY:Bake Thrift & Book Sale
DESCRIPTION:Baked goods including meat pies\, fruit pies & cinnamon buns\nThrift Shop Open 9 am am to 12 noon \nBaked Goods accepted on Friday May 1\, 2026 from 9 am to 12 noon at the Margaret Street entrance.
URL:https://southminsterunited.com/event/bake-thrift-book-sale-2/
LOCATION:Southminster United Church\, 6801 Hagar Avenue\, Niagara Falls\, Ontario\, L2G5M5\, Canada
CATEGORIES:Fundraiser
ATTACH;FMTTYPE=image/jpeg:https://southminsterunited.com/wp-content/uploads/2023/03/pexels-jA©shoots-230743-1-e1680143954514.jpg
END:VEVENT
BEGIN:VEVENT
DTSTART;TZID=America/Toronto:20230408T110000
DTEND;TZID=America/Toronto:20230408T120000
DTSTAMP:20260421T053954
CREATED:20230329T030203Z
LAST-MODIFIED:20230401T170538Z
UID:10000580-1680951600-1680955200@southminsterunited.com
SUMMARY:Fruit Pie Fundraiser Pick-Up
DESCRIPTION:Pre-order Only. Click here for the order form (PDF) \nPickup date – April 8 – 11 am to 12 noon \nLemon Meringue | Cherry | Apple Blueberry | Chocolate Cream \n9″ Pie -$15.00 each 4″ Pie – $4.50 each \nButter Tarts (raisin) – $15.00/dozen \nComplete your order form and leave in the church office or give to Liz Grice. \nFor more information contact Liz Grice – 905 356-7337 Email: egrice50@gmail.com
URL:https://southminsterunited.com/event/fruit-pie-fundraiser-pick-up/
LOCATION:Southminster United Church\, 6801 Hagar Avenue\, Niagara Falls\, Ontario\, L2G5M5\, Canada
CATEGORIES:Fundraiser
ATTACH;FMTTYPE=image/jpeg:https://southminsterunited.com/wp-content/uploads/2023/03/pexels-valeria-boltneva-1282279-scaled.jpg
END:VEVENT
BEGIN:VEVENT
DTSTART;TZID=America/Toronto:20230401T100000
DTEND;TZID=America/Toronto:20230401T140000
DTSTAMP:20260421T053954
CREATED:20230330T025113Z
LAST-MODIFIED:20230330T025113Z
UID:10000850-1680343200-1680357600@southminsterunited.com
SUMMARY:Chocolate Orders Pick-Up
DESCRIPTION:
URL:https://southminsterunited.com/event/chocolate-orders-pick-up/
LOCATION:Southminster United Church\, 6801 Hagar Avenue\, Niagara Falls\, Ontario\, L2G5M5\, Canada
CATEGORIES:Fundraiser
ATTACH;FMTTYPE=image/png:https://southminsterunited.com/wp-content/uploads/2023/03/purdys.png
END:VEVENT
END:VCALENDAR