BEGIN:VCALENDAR
VERSION:2.0
PRODID:-//Southminster United Church - ECPv6.15.18//NONSGML v1.0//EN
CALSCALE:GREGORIAN
METHOD:PUBLISH
X-WR-CALNAME:Southminster United Church
X-ORIGINAL-URL:https://southminsterunited.com
X-WR-CALDESC:Events for Southminster United Church
REFRESH-INTERVAL;VALUE=DURATION:PT1H
X-Robots-Tag:noindex
X-PUBLISHED-TTL:PT1H
BEGIN:VTIMEZONE
TZID:America/Toronto
BEGIN:DAYLIGHT
TZOFFSETFROM:-0500
TZOFFSETTO:-0400
TZNAME:EDT
DTSTART:20250309T070000
END:DAYLIGHT
BEGIN:STANDARD
TZOFFSETFROM:-0400
TZOFFSETTO:-0500
TZNAME:EST
DTSTART:20251102T060000
END:STANDARD
BEGIN:DAYLIGHT
TZOFFSETFROM:-0500
TZOFFSETTO:-0400
TZNAME:EDT
DTSTART:20260308T070000
END:DAYLIGHT
BEGIN:STANDARD
TZOFFSETFROM:-0400
TZOFFSETTO:-0500
TZNAME:EST
DTSTART:20261101T060000
END:STANDARD
BEGIN:DAYLIGHT
TZOFFSETFROM:-0500
TZOFFSETTO:-0400
TZNAME:EDT
DTSTART:20270314T070000
END:DAYLIGHT
BEGIN:STANDARD
TZOFFSETFROM:-0400
TZOFFSETTO:-0500
TZNAME:EST
DTSTART:20271107T060000
END:STANDARD
END:VTIMEZONE
BEGIN:VEVENT
DTSTART;TZID=America/Toronto:20261103T163000
DTEND;TZID=America/Toronto:20261103T183000
DTSTAMP:20260420T073846
CREATED:20230326T234933Z
LAST-MODIFIED:20230330T024534Z
UID:10000242-1793723400-1793730600@southminsterunited.com
SUMMARY:Highland Dance
DESCRIPTION:@Stenlake & Back Studio
URL:https://southminsterunited.com/event/highland-dance/2026-11-03/
LOCATION:Southminster United Church\, 6801 Hagar Avenue\, Niagara Falls\, Ontario\, L2G5M5\, Canada
CATEGORIES:Classes
ATTACH;FMTTYPE=image/jpeg:https://southminsterunited.com/wp-content/uploads/2023/03/pexels-gene-taylor-848748.jpg
END:VEVENT
BEGIN:VEVENT
DTSTART;TZID=America/Toronto:20261104T163000
DTEND;TZID=America/Toronto:20261104T183000
DTSTAMP:20260420T073846
CREATED:20230326T234933Z
LAST-MODIFIED:20230330T024534Z
UID:10000773-1793809800-1793817000@southminsterunited.com
SUMMARY:Highland Dance
DESCRIPTION:@Stenlake & Back Studio
URL:https://southminsterunited.com/event/highland-dance/2026-11-04/
LOCATION:Southminster United Church\, 6801 Hagar Avenue\, Niagara Falls\, Ontario\, L2G5M5\, Canada
CATEGORIES:Classes
ATTACH;FMTTYPE=image/jpeg:https://southminsterunited.com/wp-content/uploads/2023/03/pexels-gene-taylor-848748.jpg
END:VEVENT
BEGIN:VEVENT
DTSTART;TZID=America/Toronto:20261105T113000
DTEND;TZID=America/Toronto:20261105T123000
DTSTAMP:20260420T073846
CREATED:20230326T235329Z
LAST-MODIFIED:20230330T024642Z
UID:10000505-1793878200-1793881800@southminsterunited.com
SUMMARY:Yoga
DESCRIPTION:@ Stenlake
URL:https://southminsterunited.com/event/yoga/2026-11-05/
LOCATION:Southminster United Church\, 6801 Hagar Avenue\, Niagara Falls\, Ontario\, L2G5M5\, Canada
CATEGORIES:Classes
ATTACH;FMTTYPE=image/jpeg:https://southminsterunited.com/wp-content/uploads/2023/03/pexels-gustavo-fring-3984340.jpg
END:VEVENT
BEGIN:VEVENT
DTSTART;TZID=America/Toronto:20261110T163000
DTEND;TZID=America/Toronto:20261110T183000
DTSTAMP:20260420T073846
CREATED:20230326T234933Z
LAST-MODIFIED:20230330T024534Z
UID:10000243-1794328200-1794335400@southminsterunited.com
SUMMARY:Highland Dance
DESCRIPTION:@Stenlake & Back Studio
URL:https://southminsterunited.com/event/highland-dance/2026-11-10/
LOCATION:Southminster United Church\, 6801 Hagar Avenue\, Niagara Falls\, Ontario\, L2G5M5\, Canada
CATEGORIES:Classes
ATTACH;FMTTYPE=image/jpeg:https://southminsterunited.com/wp-content/uploads/2023/03/pexels-gene-taylor-848748.jpg
END:VEVENT
BEGIN:VEVENT
DTSTART;TZID=America/Toronto:20261111T163000
DTEND;TZID=America/Toronto:20261111T183000
DTSTAMP:20260420T073846
CREATED:20230326T234933Z
LAST-MODIFIED:20230330T024534Z
UID:10000774-1794414600-1794421800@southminsterunited.com
SUMMARY:Highland Dance
DESCRIPTION:@Stenlake & Back Studio
URL:https://southminsterunited.com/event/highland-dance/2026-11-11/
LOCATION:Southminster United Church\, 6801 Hagar Avenue\, Niagara Falls\, Ontario\, L2G5M5\, Canada
CATEGORIES:Classes
ATTACH;FMTTYPE=image/jpeg:https://southminsterunited.com/wp-content/uploads/2023/03/pexels-gene-taylor-848748.jpg
END:VEVENT
BEGIN:VEVENT
DTSTART;TZID=America/Toronto:20261112T113000
DTEND;TZID=America/Toronto:20261112T123000
DTSTAMP:20260420T073846
CREATED:20230326T235329Z
LAST-MODIFIED:20230330T024642Z
UID:10000506-1794483000-1794486600@southminsterunited.com
SUMMARY:Yoga
DESCRIPTION:@ Stenlake
URL:https://southminsterunited.com/event/yoga/2026-11-12/
LOCATION:Southminster United Church\, 6801 Hagar Avenue\, Niagara Falls\, Ontario\, L2G5M5\, Canada
CATEGORIES:Classes
ATTACH;FMTTYPE=image/jpeg:https://southminsterunited.com/wp-content/uploads/2023/03/pexels-gustavo-fring-3984340.jpg
END:VEVENT
BEGIN:VEVENT
DTSTART;TZID=America/Toronto:20261117T163000
DTEND;TZID=America/Toronto:20261117T183000
DTSTAMP:20260420T073846
CREATED:20230326T234933Z
LAST-MODIFIED:20230330T024534Z
UID:10000244-1794933000-1794940200@southminsterunited.com
SUMMARY:Highland Dance
DESCRIPTION:@Stenlake & Back Studio
URL:https://southminsterunited.com/event/highland-dance/2026-11-17/
LOCATION:Southminster United Church\, 6801 Hagar Avenue\, Niagara Falls\, Ontario\, L2G5M5\, Canada
CATEGORIES:Classes
ATTACH;FMTTYPE=image/jpeg:https://southminsterunited.com/wp-content/uploads/2023/03/pexels-gene-taylor-848748.jpg
END:VEVENT
BEGIN:VEVENT
DTSTART;TZID=America/Toronto:20261118T163000
DTEND;TZID=America/Toronto:20261118T183000
DTSTAMP:20260420T073846
CREATED:20230326T234933Z
LAST-MODIFIED:20230330T024534Z
UID:10000775-1795019400-1795026600@southminsterunited.com
SUMMARY:Highland Dance
DESCRIPTION:@Stenlake & Back Studio
URL:https://southminsterunited.com/event/highland-dance/2026-11-18/
LOCATION:Southminster United Church\, 6801 Hagar Avenue\, Niagara Falls\, Ontario\, L2G5M5\, Canada
CATEGORIES:Classes
ATTACH;FMTTYPE=image/jpeg:https://southminsterunited.com/wp-content/uploads/2023/03/pexels-gene-taylor-848748.jpg
END:VEVENT
BEGIN:VEVENT
DTSTART;TZID=America/Toronto:20261119T113000
DTEND;TZID=America/Toronto:20261119T123000
DTSTAMP:20260420T073846
CREATED:20230326T235329Z
LAST-MODIFIED:20230330T024642Z
UID:10000507-1795087800-1795091400@southminsterunited.com
SUMMARY:Yoga
DESCRIPTION:@ Stenlake
URL:https://southminsterunited.com/event/yoga/2026-11-19/
LOCATION:Southminster United Church\, 6801 Hagar Avenue\, Niagara Falls\, Ontario\, L2G5M5\, Canada
CATEGORIES:Classes
ATTACH;FMTTYPE=image/jpeg:https://southminsterunited.com/wp-content/uploads/2023/03/pexels-gustavo-fring-3984340.jpg
END:VEVENT
BEGIN:VEVENT
DTSTART;TZID=America/Toronto:20261124T163000
DTEND;TZID=America/Toronto:20261124T183000
DTSTAMP:20260420T073847
CREATED:20230326T234933Z
LAST-MODIFIED:20230330T024534Z
UID:10000245-1795537800-1795545000@southminsterunited.com
SUMMARY:Highland Dance
DESCRIPTION:@Stenlake & Back Studio
URL:https://southminsterunited.com/event/highland-dance/2026-11-24/
LOCATION:Southminster United Church\, 6801 Hagar Avenue\, Niagara Falls\, Ontario\, L2G5M5\, Canada
CATEGORIES:Classes
ATTACH;FMTTYPE=image/jpeg:https://southminsterunited.com/wp-content/uploads/2023/03/pexels-gene-taylor-848748.jpg
END:VEVENT
BEGIN:VEVENT
DTSTART;TZID=America/Toronto:20261125T163000
DTEND;TZID=America/Toronto:20261125T183000
DTSTAMP:20260420T073847
CREATED:20230326T234933Z
LAST-MODIFIED:20230330T024534Z
UID:10000776-1795624200-1795631400@southminsterunited.com
SUMMARY:Highland Dance
DESCRIPTION:@Stenlake & Back Studio
URL:https://southminsterunited.com/event/highland-dance/2026-11-25/
LOCATION:Southminster United Church\, 6801 Hagar Avenue\, Niagara Falls\, Ontario\, L2G5M5\, Canada
CATEGORIES:Classes
ATTACH;FMTTYPE=image/jpeg:https://southminsterunited.com/wp-content/uploads/2023/03/pexels-gene-taylor-848748.jpg
END:VEVENT
BEGIN:VEVENT
DTSTART;TZID=America/Toronto:20261126T113000
DTEND;TZID=America/Toronto:20261126T123000
DTSTAMP:20260420T073847
CREATED:20230326T235329Z
LAST-MODIFIED:20230330T024642Z
UID:10000508-1795692600-1795696200@southminsterunited.com
SUMMARY:Yoga
DESCRIPTION:@ Stenlake
URL:https://southminsterunited.com/event/yoga/2026-11-26/
LOCATION:Southminster United Church\, 6801 Hagar Avenue\, Niagara Falls\, Ontario\, L2G5M5\, Canada
CATEGORIES:Classes
ATTACH;FMTTYPE=image/jpeg:https://southminsterunited.com/wp-content/uploads/2023/03/pexels-gustavo-fring-3984340.jpg
END:VEVENT
END:VCALENDAR