BEGIN:VCALENDAR
VERSION:2.0
PRODID:-//Southminster United Church - ECPv6.15.18//NONSGML v1.0//EN
CALSCALE:GREGORIAN
METHOD:PUBLISH
X-ORIGINAL-URL:https://southminsterunited.com
X-WR-CALDESC:Events for Southminster United Church
REFRESH-INTERVAL;VALUE=DURATION:PT1H
X-Robots-Tag:noindex
X-PUBLISHED-TTL:PT1H
BEGIN:VTIMEZONE
TZID:America/Toronto
BEGIN:DAYLIGHT
TZOFFSETFROM:-0500
TZOFFSETTO:-0400
TZNAME:EDT
DTSTART:20240310T070000
END:DAYLIGHT
BEGIN:STANDARD
TZOFFSETFROM:-0400
TZOFFSETTO:-0500
TZNAME:EST
DTSTART:20241103T060000
END:STANDARD
BEGIN:DAYLIGHT
TZOFFSETFROM:-0500
TZOFFSETTO:-0400
TZNAME:EDT
DTSTART:20250309T070000
END:DAYLIGHT
BEGIN:STANDARD
TZOFFSETFROM:-0400
TZOFFSETTO:-0500
TZNAME:EST
DTSTART:20251102T060000
END:STANDARD
BEGIN:DAYLIGHT
TZOFFSETFROM:-0500
TZOFFSETTO:-0400
TZNAME:EDT
DTSTART:20260308T070000
END:DAYLIGHT
BEGIN:STANDARD
TZOFFSETFROM:-0400
TZOFFSETTO:-0500
TZNAME:EST
DTSTART:20261101T060000
END:STANDARD
END:VTIMEZONE
BEGIN:VEVENT
DTSTART;TZID=America/Toronto:20250101T163000
DTEND;TZID=America/Toronto:20250101T183000
DTSTAMP:20260420T183449
CREATED:20230326T234933Z
LAST-MODIFIED:20230330T024534Z
UID:10000677-1735749000-1735756200@southminsterunited.com
SUMMARY:Highland Dance
DESCRIPTION:@Stenlake & Back Studio
URL:https://southminsterunited.com/event/highland-dance/2025-01-01/
LOCATION:Southminster United Church\, 6801 Hagar Avenue\, Niagara Falls\, Ontario\, L2G5M5\, Canada
CATEGORIES:Classes
ATTACH;FMTTYPE=image/jpeg:https://southminsterunited.com/wp-content/uploads/2023/03/pexels-gene-taylor-848748.jpg
END:VEVENT
BEGIN:VEVENT
DTSTART;TZID=America/Toronto:20250102T113000
DTEND;TZID=America/Toronto:20250102T123000
DTSTAMP:20260420T183449
CREATED:20230326T235329Z
LAST-MODIFIED:20230330T024642Z
UID:10000409-1735817400-1735821000@southminsterunited.com
SUMMARY:Yoga
DESCRIPTION:@ Stenlake
URL:https://southminsterunited.com/event/yoga/2025-01-02/
LOCATION:Southminster United Church\, 6801 Hagar Avenue\, Niagara Falls\, Ontario\, L2G5M5\, Canada
CATEGORIES:Classes
ATTACH;FMTTYPE=image/jpeg:https://southminsterunited.com/wp-content/uploads/2023/03/pexels-gustavo-fring-3984340.jpg
END:VEVENT
BEGIN:VEVENT
DTSTART;TZID=America/Toronto:20250107T163000
DTEND;TZID=America/Toronto:20250107T183000
DTSTAMP:20260420T183449
CREATED:20230326T234933Z
LAST-MODIFIED:20230330T024534Z
UID:10000147-1736267400-1736274600@southminsterunited.com
SUMMARY:Highland Dance
DESCRIPTION:@Stenlake & Back Studio
URL:https://southminsterunited.com/event/highland-dance/2025-01-07/
LOCATION:Southminster United Church\, 6801 Hagar Avenue\, Niagara Falls\, Ontario\, L2G5M5\, Canada
CATEGORIES:Classes
ATTACH;FMTTYPE=image/jpeg:https://southminsterunited.com/wp-content/uploads/2023/03/pexels-gene-taylor-848748.jpg
END:VEVENT
BEGIN:VEVENT
DTSTART;TZID=America/Toronto:20250108T163000
DTEND;TZID=America/Toronto:20250108T183000
DTSTAMP:20260420T183449
CREATED:20230326T234933Z
LAST-MODIFIED:20230330T024534Z
UID:10000678-1736353800-1736361000@southminsterunited.com
SUMMARY:Highland Dance
DESCRIPTION:@Stenlake & Back Studio
URL:https://southminsterunited.com/event/highland-dance/2025-01-08/
LOCATION:Southminster United Church\, 6801 Hagar Avenue\, Niagara Falls\, Ontario\, L2G5M5\, Canada
CATEGORIES:Classes
ATTACH;FMTTYPE=image/jpeg:https://southminsterunited.com/wp-content/uploads/2023/03/pexels-gene-taylor-848748.jpg
END:VEVENT
BEGIN:VEVENT
DTSTART;TZID=America/Toronto:20250109T113000
DTEND;TZID=America/Toronto:20250109T123000
DTSTAMP:20260420T183449
CREATED:20230326T235329Z
LAST-MODIFIED:20230330T024642Z
UID:10000410-1736422200-1736425800@southminsterunited.com
SUMMARY:Yoga
DESCRIPTION:@ Stenlake
URL:https://southminsterunited.com/event/yoga/2025-01-09/
LOCATION:Southminster United Church\, 6801 Hagar Avenue\, Niagara Falls\, Ontario\, L2G5M5\, Canada
CATEGORIES:Classes
ATTACH;FMTTYPE=image/jpeg:https://southminsterunited.com/wp-content/uploads/2023/03/pexels-gustavo-fring-3984340.jpg
END:VEVENT
BEGIN:VEVENT
DTSTART;TZID=America/Toronto:20250114T163000
DTEND;TZID=America/Toronto:20250114T183000
DTSTAMP:20260420T183449
CREATED:20230326T234933Z
LAST-MODIFIED:20230330T024534Z
UID:10000148-1736872200-1736879400@southminsterunited.com
SUMMARY:Highland Dance
DESCRIPTION:@Stenlake & Back Studio
URL:https://southminsterunited.com/event/highland-dance/2025-01-14/
LOCATION:Southminster United Church\, 6801 Hagar Avenue\, Niagara Falls\, Ontario\, L2G5M5\, Canada
CATEGORIES:Classes
ATTACH;FMTTYPE=image/jpeg:https://southminsterunited.com/wp-content/uploads/2023/03/pexels-gene-taylor-848748.jpg
END:VEVENT
BEGIN:VEVENT
DTSTART;TZID=America/Toronto:20250115T163000
DTEND;TZID=America/Toronto:20250115T183000
DTSTAMP:20260420T183449
CREATED:20230326T234933Z
LAST-MODIFIED:20230330T024534Z
UID:10000679-1736958600-1736965800@southminsterunited.com
SUMMARY:Highland Dance
DESCRIPTION:@Stenlake & Back Studio
URL:https://southminsterunited.com/event/highland-dance/2025-01-15/
LOCATION:Southminster United Church\, 6801 Hagar Avenue\, Niagara Falls\, Ontario\, L2G5M5\, Canada
CATEGORIES:Classes
ATTACH;FMTTYPE=image/jpeg:https://southminsterunited.com/wp-content/uploads/2023/03/pexels-gene-taylor-848748.jpg
END:VEVENT
BEGIN:VEVENT
DTSTART;TZID=America/Toronto:20250116T113000
DTEND;TZID=America/Toronto:20250116T123000
DTSTAMP:20260420T183449
CREATED:20230326T235329Z
LAST-MODIFIED:20230330T024642Z
UID:10000411-1737027000-1737030600@southminsterunited.com
SUMMARY:Yoga
DESCRIPTION:@ Stenlake
URL:https://southminsterunited.com/event/yoga/2025-01-16/
LOCATION:Southminster United Church\, 6801 Hagar Avenue\, Niagara Falls\, Ontario\, L2G5M5\, Canada
CATEGORIES:Classes
ATTACH;FMTTYPE=image/jpeg:https://southminsterunited.com/wp-content/uploads/2023/03/pexels-gustavo-fring-3984340.jpg
END:VEVENT
BEGIN:VEVENT
DTSTART;TZID=America/Toronto:20250121T163000
DTEND;TZID=America/Toronto:20250121T183000
DTSTAMP:20260420T183449
CREATED:20230326T234933Z
LAST-MODIFIED:20230330T024534Z
UID:10000149-1737477000-1737484200@southminsterunited.com
SUMMARY:Highland Dance
DESCRIPTION:@Stenlake & Back Studio
URL:https://southminsterunited.com/event/highland-dance/2025-01-21/
LOCATION:Southminster United Church\, 6801 Hagar Avenue\, Niagara Falls\, Ontario\, L2G5M5\, Canada
CATEGORIES:Classes
ATTACH;FMTTYPE=image/jpeg:https://southminsterunited.com/wp-content/uploads/2023/03/pexels-gene-taylor-848748.jpg
END:VEVENT
BEGIN:VEVENT
DTSTART;TZID=America/Toronto:20250122T163000
DTEND;TZID=America/Toronto:20250122T183000
DTSTAMP:20260420T183449
CREATED:20230326T234933Z
LAST-MODIFIED:20230330T024534Z
UID:10000680-1737563400-1737570600@southminsterunited.com
SUMMARY:Highland Dance
DESCRIPTION:@Stenlake & Back Studio
URL:https://southminsterunited.com/event/highland-dance/2025-01-22/
LOCATION:Southminster United Church\, 6801 Hagar Avenue\, Niagara Falls\, Ontario\, L2G5M5\, Canada
CATEGORIES:Classes
ATTACH;FMTTYPE=image/jpeg:https://southminsterunited.com/wp-content/uploads/2023/03/pexels-gene-taylor-848748.jpg
END:VEVENT
BEGIN:VEVENT
DTSTART;TZID=America/Toronto:20250123T113000
DTEND;TZID=America/Toronto:20250123T123000
DTSTAMP:20260420T183449
CREATED:20230326T235329Z
LAST-MODIFIED:20230330T024642Z
UID:10000412-1737631800-1737635400@southminsterunited.com
SUMMARY:Yoga
DESCRIPTION:@ Stenlake
URL:https://southminsterunited.com/event/yoga/2025-01-23/
LOCATION:Southminster United Church\, 6801 Hagar Avenue\, Niagara Falls\, Ontario\, L2G5M5\, Canada
CATEGORIES:Classes
ATTACH;FMTTYPE=image/jpeg:https://southminsterunited.com/wp-content/uploads/2023/03/pexels-gustavo-fring-3984340.jpg
END:VEVENT
BEGIN:VEVENT
DTSTART;TZID=America/Toronto:20250128T163000
DTEND;TZID=America/Toronto:20250128T183000
DTSTAMP:20260420T183449
CREATED:20230326T234933Z
LAST-MODIFIED:20230330T024534Z
UID:10000150-1738081800-1738089000@southminsterunited.com
SUMMARY:Highland Dance
DESCRIPTION:@Stenlake & Back Studio
URL:https://southminsterunited.com/event/highland-dance/2025-01-28/
LOCATION:Southminster United Church\, 6801 Hagar Avenue\, Niagara Falls\, Ontario\, L2G5M5\, Canada
CATEGORIES:Classes
ATTACH;FMTTYPE=image/jpeg:https://southminsterunited.com/wp-content/uploads/2023/03/pexels-gene-taylor-848748.jpg
END:VEVENT
BEGIN:VEVENT
DTSTART;TZID=America/Toronto:20250129T163000
DTEND;TZID=America/Toronto:20250129T183000
DTSTAMP:20260420T183449
CREATED:20230326T234933Z
LAST-MODIFIED:20230330T024534Z
UID:10000681-1738168200-1738175400@southminsterunited.com
SUMMARY:Highland Dance
DESCRIPTION:@Stenlake & Back Studio
URL:https://southminsterunited.com/event/highland-dance/2025-01-29/
LOCATION:Southminster United Church\, 6801 Hagar Avenue\, Niagara Falls\, Ontario\, L2G5M5\, Canada
CATEGORIES:Classes
ATTACH;FMTTYPE=image/jpeg:https://southminsterunited.com/wp-content/uploads/2023/03/pexels-gene-taylor-848748.jpg
END:VEVENT
BEGIN:VEVENT
DTSTART;TZID=America/Toronto:20250130T113000
DTEND;TZID=America/Toronto:20250130T123000
DTSTAMP:20260420T183449
CREATED:20230326T235329Z
LAST-MODIFIED:20230330T024642Z
UID:10000413-1738236600-1738240200@southminsterunited.com
SUMMARY:Yoga
DESCRIPTION:@ Stenlake
URL:https://southminsterunited.com/event/yoga/2025-01-30/
LOCATION:Southminster United Church\, 6801 Hagar Avenue\, Niagara Falls\, Ontario\, L2G5M5\, Canada
CATEGORIES:Classes
ATTACH;FMTTYPE=image/jpeg:https://southminsterunited.com/wp-content/uploads/2023/03/pexels-gustavo-fring-3984340.jpg
END:VEVENT
END:VCALENDAR