BEGIN:VCALENDAR
VERSION:2.0
PRODID:-//Southminster United Church - ECPv6.15.18//NONSGML v1.0//EN
CALSCALE:GREGORIAN
METHOD:PUBLISH
X-ORIGINAL-URL:https://southminsterunited.com
X-WR-CALDESC:Events for Southminster United Church
REFRESH-INTERVAL;VALUE=DURATION:PT1H
X-Robots-Tag:noindex
X-PUBLISHED-TTL:PT1H
BEGIN:VTIMEZONE
TZID:America/Toronto
BEGIN:DAYLIGHT
TZOFFSETFROM:-0500
TZOFFSETTO:-0400
TZNAME:EDT
DTSTART:20220313T070000
END:DAYLIGHT
BEGIN:STANDARD
TZOFFSETFROM:-0400
TZOFFSETTO:-0500
TZNAME:EST
DTSTART:20221106T060000
END:STANDARD
BEGIN:DAYLIGHT
TZOFFSETFROM:-0500
TZOFFSETTO:-0400
TZNAME:EDT
DTSTART:20230312T070000
END:DAYLIGHT
BEGIN:STANDARD
TZOFFSETFROM:-0400
TZOFFSETTO:-0500
TZNAME:EST
DTSTART:20231105T060000
END:STANDARD
BEGIN:DAYLIGHT
TZOFFSETFROM:-0500
TZOFFSETTO:-0400
TZNAME:EDT
DTSTART:20240310T070000
END:DAYLIGHT
BEGIN:STANDARD
TZOFFSETFROM:-0400
TZOFFSETTO:-0500
TZNAME:EST
DTSTART:20241103T060000
END:STANDARD
END:VTIMEZONE
BEGIN:VEVENT
DTSTART;TZID=America/Toronto:20230601T113000
DTEND;TZID=America/Toronto:20230601T123000
DTSTAMP:20260421T203603
CREATED:20230326T235329Z
LAST-MODIFIED:20230330T024642Z
UID:10000326-1685619000-1685622600@southminsterunited.com
SUMMARY:Yoga
DESCRIPTION:@ Stenlake
URL:https://southminsterunited.com/event/yoga/2023-06-01/
LOCATION:Southminster United Church\, 6801 Hagar Avenue\, Niagara Falls\, Ontario\, L2G5M5\, Canada
CATEGORIES:Classes
ATTACH;FMTTYPE=image/jpeg:https://southminsterunited.com/wp-content/uploads/2023/03/pexels-gustavo-fring-3984340.jpg
END:VEVENT
BEGIN:VEVENT
DTSTART;TZID=America/Toronto:20230606T163000
DTEND;TZID=America/Toronto:20230606T183000
DTSTAMP:20260421T203603
CREATED:20230326T234933Z
LAST-MODIFIED:20230330T024534Z
UID:10000064-1686069000-1686076200@southminsterunited.com
SUMMARY:Highland Dance
DESCRIPTION:@Stenlake & Back Studio
URL:https://southminsterunited.com/event/highland-dance/2023-06-06/
LOCATION:Southminster United Church\, 6801 Hagar Avenue\, Niagara Falls\, Ontario\, L2G5M5\, Canada
CATEGORIES:Classes
ATTACH;FMTTYPE=image/jpeg:https://southminsterunited.com/wp-content/uploads/2023/03/pexels-gene-taylor-848748.jpg
END:VEVENT
BEGIN:VEVENT
DTSTART;TZID=America/Toronto:20230607T163000
DTEND;TZID=America/Toronto:20230607T183000
DTSTAMP:20260421T203603
CREATED:20230326T234933Z
LAST-MODIFIED:20230330T024534Z
UID:10000595-1686155400-1686162600@southminsterunited.com
SUMMARY:Highland Dance
DESCRIPTION:@Stenlake & Back Studio
URL:https://southminsterunited.com/event/highland-dance/2023-06-07/
LOCATION:Southminster United Church\, 6801 Hagar Avenue\, Niagara Falls\, Ontario\, L2G5M5\, Canada
CATEGORIES:Classes
ATTACH;FMTTYPE=image/jpeg:https://southminsterunited.com/wp-content/uploads/2023/03/pexels-gene-taylor-848748.jpg
END:VEVENT
BEGIN:VEVENT
DTSTART;TZID=America/Toronto:20230608T113000
DTEND;TZID=America/Toronto:20230608T123000
DTSTAMP:20260421T203603
CREATED:20230326T235329Z
LAST-MODIFIED:20230330T024642Z
UID:10000327-1686223800-1686227400@southminsterunited.com
SUMMARY:Yoga
DESCRIPTION:@ Stenlake
URL:https://southminsterunited.com/event/yoga/2023-06-08/
LOCATION:Southminster United Church\, 6801 Hagar Avenue\, Niagara Falls\, Ontario\, L2G5M5\, Canada
CATEGORIES:Classes
ATTACH;FMTTYPE=image/jpeg:https://southminsterunited.com/wp-content/uploads/2023/03/pexels-gustavo-fring-3984340.jpg
END:VEVENT
BEGIN:VEVENT
DTSTART;TZID=America/Toronto:20230613T163000
DTEND;TZID=America/Toronto:20230613T183000
DTSTAMP:20260421T203603
CREATED:20230326T234933Z
LAST-MODIFIED:20230330T024534Z
UID:10000065-1686673800-1686681000@southminsterunited.com
SUMMARY:Highland Dance
DESCRIPTION:@Stenlake & Back Studio
URL:https://southminsterunited.com/event/highland-dance/2023-06-13/
LOCATION:Southminster United Church\, 6801 Hagar Avenue\, Niagara Falls\, Ontario\, L2G5M5\, Canada
CATEGORIES:Classes
ATTACH;FMTTYPE=image/jpeg:https://southminsterunited.com/wp-content/uploads/2023/03/pexels-gene-taylor-848748.jpg
END:VEVENT
BEGIN:VEVENT
DTSTART;TZID=America/Toronto:20230614T163000
DTEND;TZID=America/Toronto:20230614T183000
DTSTAMP:20260421T203603
CREATED:20230326T234933Z
LAST-MODIFIED:20230330T024534Z
UID:10000596-1686760200-1686767400@southminsterunited.com
SUMMARY:Highland Dance
DESCRIPTION:@Stenlake & Back Studio
URL:https://southminsterunited.com/event/highland-dance/2023-06-14/
LOCATION:Southminster United Church\, 6801 Hagar Avenue\, Niagara Falls\, Ontario\, L2G5M5\, Canada
CATEGORIES:Classes
ATTACH;FMTTYPE=image/jpeg:https://southminsterunited.com/wp-content/uploads/2023/03/pexels-gene-taylor-848748.jpg
END:VEVENT
BEGIN:VEVENT
DTSTART;TZID=America/Toronto:20230615T113000
DTEND;TZID=America/Toronto:20230615T123000
DTSTAMP:20260421T203603
CREATED:20230326T235329Z
LAST-MODIFIED:20230330T024642Z
UID:10000328-1686828600-1686832200@southminsterunited.com
SUMMARY:Yoga
DESCRIPTION:@ Stenlake
URL:https://southminsterunited.com/event/yoga/2023-06-15/
LOCATION:Southminster United Church\, 6801 Hagar Avenue\, Niagara Falls\, Ontario\, L2G5M5\, Canada
CATEGORIES:Classes
ATTACH;FMTTYPE=image/jpeg:https://southminsterunited.com/wp-content/uploads/2023/03/pexels-gustavo-fring-3984340.jpg
END:VEVENT
BEGIN:VEVENT
DTSTART;TZID=America/Toronto:20230620T163000
DTEND;TZID=America/Toronto:20230620T183000
DTSTAMP:20260421T203603
CREATED:20230326T234933Z
LAST-MODIFIED:20230330T024534Z
UID:10000066-1687278600-1687285800@southminsterunited.com
SUMMARY:Highland Dance
DESCRIPTION:@Stenlake & Back Studio
URL:https://southminsterunited.com/event/highland-dance/2023-06-20/
LOCATION:Southminster United Church\, 6801 Hagar Avenue\, Niagara Falls\, Ontario\, L2G5M5\, Canada
CATEGORIES:Classes
ATTACH;FMTTYPE=image/jpeg:https://southminsterunited.com/wp-content/uploads/2023/03/pexels-gene-taylor-848748.jpg
END:VEVENT
BEGIN:VEVENT
DTSTART;TZID=America/Toronto:20230621T163000
DTEND;TZID=America/Toronto:20230621T183000
DTSTAMP:20260421T203603
CREATED:20230326T234933Z
LAST-MODIFIED:20230330T024534Z
UID:10000597-1687365000-1687372200@southminsterunited.com
SUMMARY:Highland Dance
DESCRIPTION:@Stenlake & Back Studio
URL:https://southminsterunited.com/event/highland-dance/2023-06-21/
LOCATION:Southminster United Church\, 6801 Hagar Avenue\, Niagara Falls\, Ontario\, L2G5M5\, Canada
CATEGORIES:Classes
ATTACH;FMTTYPE=image/jpeg:https://southminsterunited.com/wp-content/uploads/2023/03/pexels-gene-taylor-848748.jpg
END:VEVENT
BEGIN:VEVENT
DTSTART;TZID=America/Toronto:20230622T113000
DTEND;TZID=America/Toronto:20230622T123000
DTSTAMP:20260421T203603
CREATED:20230326T235329Z
LAST-MODIFIED:20230330T024642Z
UID:10000329-1687433400-1687437000@southminsterunited.com
SUMMARY:Yoga
DESCRIPTION:@ Stenlake
URL:https://southminsterunited.com/event/yoga/2023-06-22/
LOCATION:Southminster United Church\, 6801 Hagar Avenue\, Niagara Falls\, Ontario\, L2G5M5\, Canada
CATEGORIES:Classes
ATTACH;FMTTYPE=image/jpeg:https://southminsterunited.com/wp-content/uploads/2023/03/pexels-gustavo-fring-3984340.jpg
END:VEVENT
BEGIN:VEVENT
DTSTART;TZID=America/Toronto:20230627T163000
DTEND;TZID=America/Toronto:20230627T183000
DTSTAMP:20260421T203603
CREATED:20230326T234933Z
LAST-MODIFIED:20230330T024534Z
UID:10000067-1687883400-1687890600@southminsterunited.com
SUMMARY:Highland Dance
DESCRIPTION:@Stenlake & Back Studio
URL:https://southminsterunited.com/event/highland-dance/2023-06-27/
LOCATION:Southminster United Church\, 6801 Hagar Avenue\, Niagara Falls\, Ontario\, L2G5M5\, Canada
CATEGORIES:Classes
ATTACH;FMTTYPE=image/jpeg:https://southminsterunited.com/wp-content/uploads/2023/03/pexels-gene-taylor-848748.jpg
END:VEVENT
BEGIN:VEVENT
DTSTART;TZID=America/Toronto:20230628T163000
DTEND;TZID=America/Toronto:20230628T183000
DTSTAMP:20260421T203603
CREATED:20230326T234933Z
LAST-MODIFIED:20230330T024534Z
UID:10000598-1687969800-1687977000@southminsterunited.com
SUMMARY:Highland Dance
DESCRIPTION:@Stenlake & Back Studio
URL:https://southminsterunited.com/event/highland-dance/2023-06-28/
LOCATION:Southminster United Church\, 6801 Hagar Avenue\, Niagara Falls\, Ontario\, L2G5M5\, Canada
CATEGORIES:Classes
ATTACH;FMTTYPE=image/jpeg:https://southminsterunited.com/wp-content/uploads/2023/03/pexels-gene-taylor-848748.jpg
END:VEVENT
BEGIN:VEVENT
DTSTART;TZID=America/Toronto:20230629T113000
DTEND;TZID=America/Toronto:20230629T123000
DTSTAMP:20260421T203603
CREATED:20230326T235329Z
LAST-MODIFIED:20230330T024642Z
UID:10000330-1688038200-1688041800@southminsterunited.com
SUMMARY:Yoga
DESCRIPTION:@ Stenlake
URL:https://southminsterunited.com/event/yoga/2023-06-29/
LOCATION:Southminster United Church\, 6801 Hagar Avenue\, Niagara Falls\, Ontario\, L2G5M5\, Canada
CATEGORIES:Classes
ATTACH;FMTTYPE=image/jpeg:https://southminsterunited.com/wp-content/uploads/2023/03/pexels-gustavo-fring-3984340.jpg
END:VEVENT
END:VCALENDAR